BEGIN:VCALENDAR
VERSION:2.0
PRODID:-//Construction de maisons passives en Bretagne - ECPv4.6.7//NONSGML v1.0//EN
CALSCALE:GREGORIAN
METHOD:PUBLISH
X-WR-CALNAME:Construction de maisons passives en Bretagne
X-ORIGINAL-URL:https://www.maison-passive-bretagne.com
X-WR-CALDESC:Events for Construction de maisons passives en Bretagne
BEGIN:VEVENT
DTSTART;TZID=Europe/Paris:20230423T190000
DTEND;TZID=Europe/Paris:20230423T220000
DTSTAMP:20260424T145034
CREATED:20190401T144744Z
LAST-MODIFIED:20240119T125637Z
UID:1319-1682276400-1682287200@www.maison-passive-bretagne.com
SUMMARY:Réunion maison passive à Nantes et Laval
DESCRIPTION:Maison Passive Bretagne vous convie à cette nouvelle réunion d’information des particuliers près de Nantes et à Laval ! \nCette rencontre\, organisée par David BECQUART et Didier LE GOFF \, fondateurs de Maison Passive Bretagne\, et ses partenaires experts en construction de maisons passives écologiques et économes en énergie\, aura lieu  à une date qu’il nous est impossible d’envisager en l’état actuel. \nCette réunion s’adresse aux porteurs d’un projet de construction de maison bioclimatique en Loire Atlantique et en Mayenne ainsi que dans les départements limitrophes. \nSur place\, vous pourrez échanger librement avec l’équipe pluridisciplinaire de Maison Passive Bretagne sur tous les sujets concernant votre projet de maison écologique : \n\nLes concepteurs et conseillers en habitat passif certifié (Didier LE GOFF et David BECQUART )\nLe partenaire fournisseur de ventilations double-flux (obligatoire dans une maison passive)\nLe partenaires fournisseur de notre système constructif labellisé passif (Système maçonné)\nLe partenaire fournisseur de fenêtres passives\nL’architecte partenaire ou notre maître d’oeuvre sur le secteur\n\nDéroulement de la réunion maison passive :\nLa première partie de la réunion(19h00-20h30) est consacrée à une présentation générale de l’équipe et de son concept novateur de mise en oeuvre de votre projet de maison passive à faible consommation énergétique (Concepts du passif\, bioclimatisme\, équipements à faible consommation d’énergie\, inertie thermique\, etc.).\nLa seconde partie (20h30-22h00) sera consacrée à votre projet et à la façon dont nous pouvons y répondre concrètement. \nAlors\, n’attendez plus pour vous inscrire et mettez à profit votre début de soirée pour nous rencontrer à Nantes et à Laval. \nCette réunion est gratuite et sans engagement.\nTous les détails pratiques ci-contre. \nChaque inscrit recevra un mail de rappel une semaine avant et la veille de la réunion. \nAu plaisir de vous rencontrer à la rentrée à Nantes et à Laval ! \nL’équipe Maison Passive Bretagne  \n
URL:https://www.maison-passive-bretagne.com/event/reunion-maison-passive-a-nantes-24-mai-2019/
LOCATION:13\, rue de Bretagne - ZA MALABRY\, La Chapelle sur Erdre\, Pays de Loire\, 44243
CATEGORIES:Réunions maisons passives
ATTACH;FMTTYPE=image/jpeg:https://www.maison-passive-bretagne.com/wp-content/uploads/2019/06/reunion-24-mai-2019-7.jpg
ORGANIZER;CN="Didier%20Le%20Goff":MAILTO:didier.legoff@didome.fr
END:VEVENT
BEGIN:VEVENT
DTSTART;TZID=Europe/Paris:20230423T193000
DTEND;TZID=Europe/Paris:20230423T223000
DTSTAMP:20260424T145034
CREATED:20190920T110112Z
LAST-MODIFIED:20240119T130034Z
UID:2059-1682278200-1682289000@www.maison-passive-bretagne.com
SUMMARY:Réunion maison passive ossature bois
DESCRIPTION:Maison Passive Bretagne vous convie à cette réunion d’information des particuliers près de Rennes ! \nCette rencontre\, organisée par Didier LE GOFF et ses partenaires\, est REPORTÉE à une date ultérieure qu’il est impossible d’envisager pour le moment\, dans les locaux de notre partenaire fabriquant de maisons passives à ossature bois. \n \n\nÀ qui s’adresse cette réunion ?\nCet événement s’adresse aux personnes ayant un projet de construction de maison passive écologique en bois en Ille-et-Vilaine et dans les départements voisins : Mayenne\, Côtes d’Armor\, Morbihan\, sud Manche et nord Loire Atlantique. \nSi vous n’en êtes qu’au début de votre réflexion\, que vous n’avez pas encore de terrain et que vous recherchez de l’information\, cette réunion est faite pour vous !\nSi vous avez déjà trouvé votre terrain et que vous souhaitez interroger des professionnels de la construction passive pour qu’éventuellement ils prennent en charge votre projet\, cette réunion est faite pour vous ! \nQuels professionnels allons-nous rencontrer ?\nSur place\, vous pourrez échanger librement avec l’équipe pluridisciplinaire de Maison Passive Bretagne : \n\nle constructeur de maison passive à ossature bois\nl’architecte du groupement\nle thermicien et concepteur passif titulaire de la certification européenne PHI délivrée par le Passivhaus Institut (Didier Le Goff)\nle fabricant de ventilations double flux\nle fabricant de fenêtres passives triple vitrage\n\nSur place\, vous visiterez l’usine de fabrication des ossatures en bois. En effet\, notre partenaire fabrique et isole les éléments de votre future maison passive en atelier avant de les assembler sur votre terrain. Cette façon de faire apporte une précision au millimètre pour une étanchéité à l’air du bâtiment parfaite. \nDéroulement de la réunion maison passive :\nLa première partie de la réunion(19h30-21h30) est consacrée à une présentation générale de l’équipe et de son concept novateur de mise en oeuvre de votre projet de maison passive.\nLa seconde partie (21h30-22h30) sera consacrée à votre projet et à la façon dont nous pouvons y répondre concrètement. Ceux qui souhaitent poursuivre l’échange peuvent même rester plus tard ! \nAlors\, n’attendez plus pour vous pré-inscrire (formulaire tout en haut de cette page) et mettez à profit votre soirée pour nous rencontrer à 20 minutes de Rennes. Nous vous communiquerons la date très rapidement. \nY’a t-il une contrepartie ?\nIl s’agit d’une réunion d’information gratuite et sans engagement de votre part. \nAlors\, n’attendez plus\, inscrivez-vous ! (formulaire d’inscription en haut de page + tous les détails pratiques en haut à gauche de cette page) \nChaque inscrit sera informé au plus vite de la date retenue et recevra un mail de rappel une semaine avant et la veille de la réunion. \nAu plaisir de vous rencontrer à cette prochaine réunion ! \nL’équipe Maison Passive Bretagne  \n\nLa réunion du 17 octobre en images\nDécouvrez les images commentées de la dernière réunion «maison passive à ossature bois» qui s’est tenue chez notre partenaire le 17 octobre dernier.\n16 participants sont venus des environs de Rennes et parfois de loin (Vannes\, St Brieuc\, Loudéac…) . Une réunion réussie dans une ambiance conviviale ! \n\n
URL:https://www.maison-passive-bretagne.com/event/maison-ecologique-ossature-bois/
LOCATION:25 rue Madeleine Brès\, Guichen\, Bretagne\, 35580\, France
CATEGORIES:Réunions maisons passives
ATTACH;FMTTYPE=image/jpeg:https://www.maison-passive-bretagne.com/wp-content/uploads/2019/10/bois-home-2a.jpg
ORGANIZER;CN="Didier%20Le%20Goff":MAILTO:didier.legoff@didome.fr
END:VEVENT
END:VCALENDAR