BEGIN:VCALENDAR
VERSION:2.0
PRODID:-//Construction de maisons passives en Bretagne - ECPv4.6.7//NONSGML v1.0//EN
CALSCALE:GREGORIAN
METHOD:PUBLISH
X-WR-CALNAME:Construction de maisons passives en Bretagne
X-ORIGINAL-URL:https://www.maison-passive-bretagne.com
X-WR-CALDESC:Events for Construction de maisons passives en Bretagne
BEGIN:VEVENT
DTSTART;TZID=Europe/Paris:20230227T190000
DTEND;TZID=Europe/Paris:20230227T220000
DTSTAMP:20260424T165005
CREATED:20190502T133711Z
LAST-MODIFIED:20240119T125601Z
UID:1490-1677524400-1677535200@www.maison-passive-bretagne.com
SUMMARY:Réunion maison passive Vannes-Lorient - Jeudi 27 février 2023 à 19h00
DESCRIPTION:Maison Passive Bretagne vous invite à une réunion d’information le jeudi 27 février 2023 de 19h00 à 21h30\, à Questembert\, dans le Morbihan.\nMettez à profit la nouvelle année pour nous rencontrer dans les locaux de notre partenaire de la région de Vannes et pour profiter des meilleurs conseils en matière de maison écologique à faible consommation énergétique. \nCette réunion d’information des particuliers est organisée par le groupement Maison Passive Bretagne et portera sur les deux modes constructifs passifs (maison bois et maison en système maçonnée)\, représentés par nos deux constructeurs partenaires du 56.\n \nCette réunion est-elle faite pour moi ?\nCette rencontre s’adresse aux particuliers ayant le projet de construire une maison passive dans les secteurs de Vannes et de Lorient ainsi que tout le Morbihan et les départements voisins\, quelque soit leur stade d’avancement dans le projet. \nSi vous avez déjà un terrain et que vous recherchez une équipe de professionnels bien rodée pour construire votre maison\, vous êtes au bon endroit car sur place\, vous pourrez parler directement et sans contrepartie avec des experts en construction passive (thermicien\, fournisseurs de matériaux certifiés passif\, constructeur\, concepteur bioclimatique\, etc.).\nSi vous n’êtes pas encore déterminé sur le choix constructif (construction maçonnée ou maison en bois\, aspects bioclimatiques\, etc.) ni sur les équipements de votre maison destinés à faire des économies d’énergies\, nous saurons vous orienter suivant les spécifications et les contraintes de votre projet. \nPar contre\, nul besoin d’être à un stade avancé pour venir. Si vous n’arrivez pas à faire le tri dans la masse d’information\, souvent contradictoire\, provenant d’internet et de votre entourage\, si vous voulez y voir plus clair ou si vous ne connaissez tout simplement rien au passif\, raison de plus pour venir vous informer ! \nJe vais rencontrer des professionnels ?\nInscrivez-vous dès aujourd’hui à cette rencontre informative entre les particuliers et des professionnels du passif des pays de Vannes et de Lorient appartenant à divers corps de métier : \n\nle fournisseur de matériaux pour les maisons maçonnées (bloc coffrant isolant)\nle constructeur de maisons passives en bois\nle fournisseur de fenêtres labellisées passives\nle thermicien et concepteur passif titulaire de la certification européenne PHI délivrée par le Passivhaus Institut (Didier Le Goff – Fondateur de Maison Passive Bretagne)\nle fabricant de ventilations double flux\n\nVa-t’on me demander quelque chose en retour ?\nIl s’agit d’une réunion d’information gratuite et sans engagement de votre part. \nAlors\, n’attendez plus pour vous inscrire ! (formulaire d’inscription en haut de page + tous les détails pratiques en haut à gauche de cette page) \nChaque inscrit recevra un mail de rappel une semaine avant et la veille de la réunion. \nAu plaisir de vous voir le 27 février 2023 à Questembert ! \nL’équipe Maison Passive Bretagne  \n\nLa réunion du 23 janvier en images !\n\n
URL:https://www.maison-passive-bretagne.com/event/reunion-construction-passive-vannes-56/
LOCATION:1 Rue Gustave Eiffel\, Questembert\, Bretagne\, 56230\, France
CATEGORIES:Réunions maisons passives
ATTACH;FMTTYPE=image/jpeg:https://www.maison-passive-bretagne.com/wp-content/uploads/2019/06/reunion-24-mai-2019-4.jpg
ORGANIZER;CN="Didier%20Le%20Goff":MAILTO:didier.legoff@didome.fr
END:VEVENT
END:VCALENDAR